BEGIN:VCALENDAR
VERSION:2.0
PRODID:-//hacksw/handcal//NONSGML v1.0//EN
CALSCALE:GREGORIAN
BEGIN:VEVENT
LOCATION:
DESCRIPTION:The Arc of Chester County offers FREE virtual trainings covering a variety of topics which empower people to learn about education and systems advocacy.
DTSTART:20250416T113000"AM04UTCWed, 16 Apr 2025 11:30:00 +0000302025-04-16T11:30:00+00:00am/3UTC3_20252025Wed, 16 Apr 2025 11:30:00 +0000k"
DTEND:20250416T130000"PM04UTCWed, 16 Apr 2025 13:00:00 +0000002025-04-16T13:00:00+00:00pm/3UTC3_20252025Wed, 16 Apr 2025 13:00:00 +0000k"
SUMMARY:Spring 2025 Chat-n-Chew Speaker Series
URL;VALUE=URI:https://uwscc.facewebsites.net/event-info/194
DTSTAMP:20260421T082346"AM04UTCTue, 21 Apr 2026 08:23:46 +0000232026-04-21T08:23:46+00:00am/2UTC2_20262026Tue, 21 Apr 2026 08:23:46 +0000k"
UID:69e7341257aac
END:VEVENT
END:VCALENDAR