BEGIN:VCALENDAR
VERSION:2.0
PRODID:-//hacksw/handcal//NONSGML v1.0//EN
CALSCALE:GREGORIAN
BEGIN:VEVENT
LOCATION:
DESCRIPTION:Getting Ahead is a free\, 16-week workshop in which adult participants investigate the hidden rules of living in poverty and build resources and relationships in the community\, and tools for planning for a better life. / Hacia Adelante es un taller gratuito de 16 semanas que donde los participantes adultos investigan las reglas ocultas de vivir en situaciones de pobreza\, desarrollan
recursos\, relaciones en la comunidad y herramientas para una vida mejor.
DTSTART:20260128T173000"PM01UTCWed, 28 Jan 2026 17:30:00 +0000302026-01-28T17:30:00+00:00pm/3UTC3_20262026Wed, 28 Jan 2026 17:30:00 +0000k"
DTEND:20260520T200000"PM05UTCWed, 20 May 2026 20:00:00 +0000002026-05-20T20:00:00+00:00pm/3UTC3_20262026Wed, 20 May 2026 20:00:00 +0000k"
SUMMARY:KACS Getting Ahead: A Path Forward / KACS Hacia Adelante: Su Nuevo Camino
URL;VALUE=URI:https://uwscc.facewebsites.net/event-info/361
DTSTAMP:20260424T133742"PM04UTCFri, 24 Apr 2026 13:37:42 +0000372026-04-24T13:37:42+00:00pm/5UTC5_20262026Fri, 24 Apr 2026 13:37:42 +0000k"
UID:69eb7226a5b0f
END:VEVENT
END:VCALENDAR