BEGIN:VCALENDAR
VERSION:2.0
PRODID:-//hacksw/handcal//NONSGML v1.0//EN
CALSCALE:GREGORIAN
BEGIN:VEVENT
LOCATION:
DESCRIPTION:Hacia Adelante es un taller gratuito de 16 semanas que donde los participantes adultos
investigan las reglas ocultas de vivir en situaciones de pobreza\, desarrollan
recursos\, relaciones en la comunidad y herramientas para una vida mejor.
DTSTART:20260127T090000"AM01UTCTue, 27 Jan 2026 09:00:00 +0000002026-01-27T09:00:00+00:00am/2UTC2_20262026Tue, 27 Jan 2026 09:00:00 +0000k"
DTEND:20260519T113000"AM05UTCTue, 19 May 2026 11:30:00 +0000302026-05-19T11:30:00+00:00am/2UTC2_20262026Tue, 19 May 2026 11:30:00 +0000k"
SUMMARY:KACS Hacia Adelante: Su Nuevo Camino
URL;VALUE=URI:https://uwscc.facewebsites.net/event-info/362
DTSTAMP:20260424T133200"PM04UTCFri, 24 Apr 2026 13:32:00 +0000322026-04-24T13:32:00+00:00pm/5UTC5_20262026Fri, 24 Apr 2026 13:32:00 +0000k"
UID:69eb70d02433c
END:VEVENT
END:VCALENDAR