BEGIN:VCALENDAR
VERSION:2.0
PRODID:-//hacksw/handcal//NONSGML v1.0//EN
CALSCALE:GREGORIAN
BEGIN:VEVENT
LOCATION:
DESCRIPTION:Throughout 2026\, The Wardrobe will host free events that bring together community members to learn how they can support or benefit from The Wardrobe’s clothing and confidence-building services\, empowering people on their journey to independence.  
DTSTART:20260917T000000"AM09UTCThu, 17 Sep 2026 00:00:00 +0000002026-09-17T00:00:00+00:00am/4UTC4_20262026Thu, 17 Sep 2026 00:00:00 +0000k"
DTEND:20260917T235500"PM09UTCThu, 17 Sep 2026 23:55:00 +0000552026-09-17T23:55:00+00:00pm/4UTC4_20262026Thu, 17 Sep 2026 23:55:00 +0000k"
SUMMARY:Threads of Independence 
URL;VALUE=URI:https://uwscc.facewebsites.net/event-info/366
DTSTAMP:20260424T133737"PM04UTCFri, 24 Apr 2026 13:37:37 +0000372026-04-24T13:37:37+00:00pm/5UTC5_20262026Fri, 24 Apr 2026 13:37:37 +0000k"
UID:69eb7221bbfd8
END:VEVENT
END:VCALENDAR