BEGIN:VCALENDAR
VERSION:2.0
PRODID:-//hacksw/handcal//NONSGML v1.0//EN
CALSCALE:GREGORIAN
BEGIN:VEVENT
LOCATION:
DESCRIPTION:PA CareerLink® Chester County is excited to share our April 2026 Workshop Calendar\, featuring job fairs\, free career workshops\, digital skills training\, and supportive services available to the community members you serve.
DTSTART:20260521T123000"PM05UTCThu, 21 May 2026 12:30:00 +0000302026-05-21T12:30:00+00:00pm/4UTC4_20262026Thu, 21 May 2026 12:30:00 +0000k"
DTEND:20260521T150000"PM05UTCThu, 21 May 2026 15:00:00 +0000002026-05-21T15:00:00+00:00pm/4UTC4_20262026Thu, 21 May 2026 15:00:00 +0000k"
SUMMARY:Job Fair & Workshops
URL;VALUE=URI:https://uwscc.facewebsites.net/event-info/414
DTSTAMP:20260423T142130"PM04UTCThu, 23 Apr 2026 14:21:30 +0000212026-04-23T14:21:30+00:00pm/4UTC4_20262026Thu, 23 Apr 2026 14:21:30 +0000k"
UID:69ea2aea62020
END:VEVENT
END:VCALENDAR